BEGIN:VCALENDAR
VERSION:2.0
PRODID:-//Associació Aire - ECPv6.15.13//NONSGML v1.0//EN
CALSCALE:GREGORIAN
METHOD:PUBLISH
X-WR-CALNAME:Associació Aire
X-ORIGINAL-URL:https://www.associacioaire.com
X-WR-CALDESC:Eventos para Associació Aire
REFRESH-INTERVAL;VALUE=DURATION:PT1H
X-Robots-Tag:noindex
X-PUBLISHED-TTL:PT1H
BEGIN:VTIMEZONE
TZID:Europe/Madrid
BEGIN:DAYLIGHT
TZOFFSETFROM:+0100
TZOFFSETTO:+0200
TZNAME:CEST
DTSTART:20190331T010000
END:DAYLIGHT
BEGIN:STANDARD
TZOFFSETFROM:+0200
TZOFFSETTO:+0100
TZNAME:CET
DTSTART:20191027T010000
END:STANDARD
BEGIN:DAYLIGHT
TZOFFSETFROM:+0100
TZOFFSETTO:+0200
TZNAME:CEST
DTSTART:20200329T010000
END:DAYLIGHT
BEGIN:STANDARD
TZOFFSETFROM:+0200
TZOFFSETTO:+0100
TZNAME:CET
DTSTART:20201025T010000
END:STANDARD
BEGIN:DAYLIGHT
TZOFFSETFROM:+0100
TZOFFSETTO:+0200
TZNAME:CEST
DTSTART:20210328T010000
END:DAYLIGHT
BEGIN:STANDARD
TZOFFSETFROM:+0200
TZOFFSETTO:+0100
TZNAME:CET
DTSTART:20211031T010000
END:STANDARD
END:VTIMEZONE
BEGIN:VEVENT
DTSTART;TZID=Europe/Madrid:20200507T110000
DTEND;TZID=Europe/Madrid:20200507T114500
DTSTAMP:20260420T080204
CREATED:20200427T092907Z
LAST-MODIFIED:20200427T101120Z
UID:2313-1588849200-1588851900@www.associacioaire.com
SUMMARY:[:ca]Gimnàstica amb Siel Bleu[:es]Gimnasia con Siel Bleu[:]
DESCRIPTION:[:ca]Durant l’estat d’alarma\, la fundació Siel Bleu ens ofereix les seves sessions de gimnàstica adaptada a través de YouTube. Val la pena!\n[:es]Durante el estado de alarma\, la fundación Siel Bleu nos ofrece sus sesiones de gimnasia adaptada a través de YouTube. ¡Vale la pena!\n[:]
URL:https://www.associacioaire.com/event2/gimnastica-amb-siel-bleu
END:VEVENT
BEGIN:VEVENT
DTSTART;TZID=Europe/Madrid:20200430T110000
DTEND;TZID=Europe/Madrid:20200430T114500
DTSTAMP:20260420T080204
CREATED:20200427T100715Z
LAST-MODIFIED:20200427T100801Z
UID:2322-1588244400-1588247100@www.associacioaire.com
SUMMARY:[:ca]Gimnàstica amb Siel Bleu[:es]Gimnasia con Siel Bleu[:]
DESCRIPTION:[:ca]Durant l’estat d’alarma\, la fundació Siel Bleu ens ofereix les seves sessions de gimnàstica adaptada a través de YouTube. Val la pena!\n[:es]Durante el estado de alarma\, la fundación Siel Bleu nos ofrece sus sesiones de gimnasia adaptada a través de YouTube. ¡Vale la pena!\n[:]
URL:https://www.associacioaire.com/event2/gimnastica-amb-siel-bleu-2
END:VEVENT
BEGIN:VEVENT
DTSTART;TZID=Europe/Madrid:20200429T110000
DTEND;TZID=Europe/Madrid:20200429T114500
DTSTAMP:20260420T080204
CREATED:20200428T194025Z
LAST-MODIFIED:20200428T194025Z
UID:2330-1588158000-1588160700@www.associacioaire.com
SUMMARY:[:ca]Gimnàstica amb Siel Bleu[:es]Gimnasia con Siel Bleu[:]
DESCRIPTION:[:ca]Durant l’estat d’alarma\, la fundació Siel Bleu ens ofereix les seves sessions de gimnàstica adaptada a través de YouTube. Val la pena!\n[:es]Durante el estado de alarma\, la fundación Siel Bleu nos ofrece sus sesiones de gimnasia adaptada a través de YouTube. ¡Vale la pena!\n[:]
URL:https://www.associacioaire.com/event2/gimnastica-amb-siel-bleu-3
END:VEVENT
BEGIN:VEVENT
DTSTART;TZID=Europe/Madrid:20200423T080000
DTEND;TZID=Europe/Madrid:20200423T200000
DTSTAMP:20260420T080204
CREATED:20200210T035542Z
LAST-MODIFIED:20200422T194055Z
UID:1186-1587628800-1587672000@www.associacioaire.com
SUMMARY:[:ca]Sant Jordi 2020 (Suspès per la Covid-19)[:es]Sant Jordi 2020 (Suspendido por la Covid-19)[:]
DESCRIPTION:[:ca]Malauradament hem hagut de cancel·lar la diada festiva de Sant Jordi per prevenció al coronavirus. \nDijous 23 d’abril no estarem a la plaça de la Vila de Santa Coloma de Gramenet celebrant la diada de Sant Jordi\, amb roses\, llibres i un toc d’aire per tots. \nUs esperem l’any vinent.[:es]Tristemente nos hemos visto obligados a cancelar la jornada festiva de Sant Jordi por prevención al coronavirus. \nEl jueves 23 de abril habríamos estado en la plaza de la Vila de Santa Coloma de Gramenet celebrando el día de Sant Jordi\, con rosas\, libros y un toque de aire para todos.\nEstaremos allí el próximo año. \n¿Vendrás?[:]
URL:https://www.associacioaire.com/event2/sant-jordi-2020
LOCATION:[:ca]Plaça de la Vila de Santa Coloma de Gramenet[:es]Plaza de la Vila de Santa Coloma de Gramenet[:]\, Plaça de la Vila\, Santa Coloma de Gramanet\, Barcelona
CATEGORIES:Events
ATTACH;FMTTYPE=image/jpeg:https://www.associacioaire.com/wp-content/uploads/2020/02/WhatsApp-Image-2020-02-11-at-16.04.11-e1581646234158.jpeg
ORGANIZER;CN="Associaci%C3%B3 Aire":MAILTO:info.associacioaire@gmail.com
END:VEVENT
BEGIN:VEVENT
DTSTART;TZID=Europe/Madrid:20200419T123000
DTEND;TZID=Europe/Madrid:20200419T153000
DTSTAMP:20260420T080204
CREATED:20181128T054136Z
LAST-MODIFIED:20200412T160527Z
UID:245-1587299400-1587310200@www.associacioaire.com
SUMMARY:[:ca]Caminada popular i marxa nòrdica AIRE (Suspesa per Covid-19)[:es]Caminata popular y marcha nórdica AIRE (Suspendida por Covid-19)[:]
DESCRIPTION:[:ca]Caminada popular i marxa nórdica multitudinaria convocada per amics i malalts afectats de Fibrosi Pulmonar Idiopàtica\, totes les malalties respiratòries i trasplantats pulmonars.[:es]Caminata popular y marcha nórdica multitudinaria para personas afectadas de Fibrosis Pulmonar Idiopática\, todas las enfermedades respiratorias y trasplantados pulmonares. \n [:]
URL:https://www.associacioaire.com/event2/marxanordicaaire
LOCATION:[:ca]Camp d’atletisme Antonio Amorós[:es]Campo de atletismo Antonio Amorós[:]\, Av. Pallaresa\, 99\, Santa Coloma de Gramenet\, Barcelona\, 08924\, España
CATEGORIES:Events
ATTACH;FMTTYPE=image/jpeg:https://www.associacioaire.com/wp-content/uploads/2020/04/Banner-02-caminada-suspesa.jpg
ORGANIZER;CN="Associaci%C3%B3 Aire":MAILTO:info.associacioaire@gmail.com
END:VEVENT
END:VCALENDAR